BEGIN:VCALENDAR
VERSION:2.0
PRODID:-//Woolmer Green Parish Council//Meeting Calendar//EN
CALSCALE:GREGORIAN
METHOD:PUBLISH
BEGIN:VEVENT
UID:70441-20250909@woolmergreenparishcouncil.gov.uk
DTSTAMP:20260425T023746Z
DTSTART;VALUE=DATE:20250909
DTEND;VALUE=DATE:20250910
SUMMARY:Parish Council Meeting &#8211\\; 9 September 2025
DESCRIPTION:Full Council Meeting\nView details: https://woolmergreenparishcouncil.gov.uk/meetings/parish-council-meeting-9-september-2025/
URL:https://woolmergreenparishcouncil.gov.uk/meetings/parish-council-meeting-9-september-2025/
END:VEVENT
END:VCALENDAR
