BEGIN:VCALENDAR
VERSION:2.0
PRODID:-//Woolmer Green Parish Council//Meeting Calendar//EN
CALSCALE:GREGORIAN
METHOD:PUBLISH
BEGIN:VEVENT
UID:70457-20250624@woolmergreenparishcouncil.gov.uk
DTSTAMP:20260424T232917Z
DTSTART;VALUE=DATE:20250624
DTEND;VALUE=DATE:20250625
SUMMARY:Parish Council Meeting &#8211\\; 10 June 2025
DESCRIPTION:Full Council Meeting\nView details: https://woolmergreenparishcouncil.gov.uk/meetings/extra-parish-council-meeting-24-june-2025/
URL:https://woolmergreenparishcouncil.gov.uk/meetings/extra-parish-council-meeting-24-june-2025/
END:VEVENT
END:VCALENDAR
