BEGIN:VCALENDAR
VERSION:2.0
PRODID:-//Woolmer Green Parish Council//Meeting Calendar//EN
CALSCALE:GREGORIAN
METHOD:PUBLISH
BEGIN:VEVENT
UID:70467-20250514@woolmergreenparishcouncil.gov.uk
DTSTAMP:20260424T214212Z
DTSTART;VALUE=DATE:20250514
DTEND;VALUE=DATE:20250515
SUMMARY:Parish Council Meeting &#8211\\; 14 May 2025
DESCRIPTION:Full Council Meeting\nView details: https://woolmergreenparishcouncil.gov.uk/meetings/annual-parish-council-meeting-14-may-2025/
URL:https://woolmergreenparishcouncil.gov.uk/meetings/annual-parish-council-meeting-14-may-2025/
END:VEVENT
END:VCALENDAR
