BEGIN:VCALENDAR
VERSION:2.0
PRODID:-//Woolmer Green Parish Council//Meeting Calendar//EN
CALSCALE:GREGORIAN
METHOD:PUBLISH
BEGIN:VEVENT
UID:70471-20250311@woolmergreenparishcouncil.gov.uk
DTSTAMP:20260424T202814Z
DTSTART;VALUE=DATE:20250311
DTEND;VALUE=DATE:20250312
SUMMARY:Parish Council Meeting &#8211\\; 11 March 2025
DESCRIPTION:Full Council Meeting\nView details: https://woolmergreenparishcouncil.gov.uk/meetings/parish-council-meeting-11-march-2025/
URL:https://woolmergreenparishcouncil.gov.uk/meetings/parish-council-meeting-11-march-2025/
END:VEVENT
END:VCALENDAR
