BEGIN:VCALENDAR
VERSION:2.0
PRODID:-//Woolmer Green Parish Council//Meeting Calendar//EN
CALSCALE:GREGORIAN
METHOD:PUBLISH
BEGIN:VEVENT
UID:70474-20250211@woolmergreenparishcouncil.gov.uk
DTSTAMP:20260424T190713Z
DTSTART;VALUE=DATE:20250211
DTEND;VALUE=DATE:20250212
SUMMARY:Parish Council Meeting &#8211\\; 11 February 2025
DESCRIPTION:Full Council Meeting\nView details: https://woolmergreenparishcouncil.gov.uk/meetings/parish-council-meeting-11-february-2025/
URL:https://woolmergreenparishcouncil.gov.uk/meetings/parish-council-meeting-11-february-2025/
END:VEVENT
END:VCALENDAR
