BEGIN:VCALENDAR
VERSION:2.0
PRODID:-//Woolmer Green Parish Council//Meeting Calendar//EN
CALSCALE:GREGORIAN
METHOD:PUBLISH
BEGIN:VEVENT
UID:70516-20240416@woolmergreenparishcouncil.gov.uk
DTSTAMP:20260424T142113Z
DTSTART;VALUE=DATE:20240416
DTEND;VALUE=DATE:20240417
SUMMARY:Annual Parish Meeting &#8211\\; 16 April 2024
DESCRIPTION:Annual Parish Meeting\nView details: https://woolmergreenparishcouncil.gov.uk/meetings/annual-parish-council-meeting-9-may-2023/
URL:https://woolmergreenparishcouncil.gov.uk/meetings/annual-parish-council-meeting-9-may-2023/
END:VEVENT
END:VCALENDAR
