BEGIN:VCALENDAR
VERSION:2.0
PRODID:-//Woolmer Green Parish Council//Meeting Calendar//EN
CALSCALE:GREGORIAN
METHOD:PUBLISH
BEGIN:VEVENT
UID:70696-20250114@woolmergreenparishcouncil.gov.uk
DTSTAMP:20260424T173526Z
DTSTART;VALUE=DATE:20250114
DTEND;VALUE=DATE:20250115
SUMMARY:Parish Council Meeting &#8211\\; 14 January 2025
DESCRIPTION:Full Council Meeting\nView details: https://woolmergreenparishcouncil.gov.uk/meetings/parish-council-meeting-14-january-2025/
URL:https://woolmergreenparishcouncil.gov.uk/meetings/parish-council-meeting-14-january-2025/
END:VEVENT
END:VCALENDAR
